BEGIN:VCALENDAR
VERSION:2.0
PRODID:-//Suomen Energiahoitajat Oy - ECPv6.13.2//NONSGML v1.0//EN
CALSCALE:GREGORIAN
METHOD:PUBLISH
X-WR-CALNAME:Suomen Energiahoitajat Oy
X-ORIGINAL-URL:https://seh.koutademo.fi
X-WR-CALDESC:Tapahtumat Suomen Energiahoitajat Oy
REFRESH-INTERVAL;VALUE=DURATION:PT1H
X-Robots-Tag:noindex
X-PUBLISHED-TTL:PT1H
BEGIN:VTIMEZONE
TZID:Europe/Helsinki
BEGIN:DAYLIGHT
TZOFFSETFROM:+0200
TZOFFSETTO:+0300
TZNAME:EEST
DTSTART:20260329T010000
END:DAYLIGHT
BEGIN:STANDARD
TZOFFSETFROM:+0300
TZOFFSETTO:+0200
TZNAME:EET
DTSTART:20261025T010000
END:STANDARD
END:VTIMEZONE
BEGIN:VEVENT
DTSTART;TZID=Europe/Helsinki:20260425T000000
DTEND;TZID=Europe/Helsinki:20260426T235959
DTSTAMP:20260419T154718
CREATED:20210430T075345Z
LAST-MODIFIED:20251223T104609Z
UID:3646-1777075200-1777247999@seh.koutademo.fi
SUMMARY:Lähikurssi Kuopio\, Taso 1 Kurssi 2: Energiakehon hoito
DESCRIPTION:Ennakkovaatimus: Fyysisen kehon hoito -kurssi. \n\n\n\nTällä kurssilla opit purkamaan kehosta pois tällaista kertynyttä stressiä. Hoidon seurauksena keho ja mieli rentoutuvat\, kivut helpottavat\, energiataso nousee ja kehon paranemisprosessit aktivoituvat. \n\n\n\nLänsimainen kiireinen elämäntapa luo kehoon ja mieleen valtavasti stressiä jota yleensä ei osata purkaa edes lomien aikaan. \n\n\n\nTämä stressi kertyy kehoon ja itämaisen lääketieteen mukaan kertynyt jännitys tukkii kehon energiavirrat mikä johtaa krooniseen stressitilaan. Ensimmäinen oire tällaisesta kroonisesta stressitilasta on pinnallinen ja katkonainen uni. Kun tällainen stressitila jatkuu\, johtaa se ajan kanssa vakavampiin oireisiin kuten mm. kroonisiin kipuihin\, tulehdustiloihin tai jopa loppuun palamiseen. \n\n\n\nTällä kurssilla opit purkamaan kehosta pois tällaista kertynyttä stressiä. Hoidon seurauksena keho ja mieli rentoutuvat\, kivut helpottavat\, energiataso nousee ja kehon paranemisprosessit aktivoituvat. Tämän kurssin tekniikoiden vaikutus myös lisää entisestään ensimmäisen kurssin hoitotuloksia\, eli energeettisestä jäsenkorjauksesta tulee entistä tehokkaampaa ja hoitotulokset ovat pysyvämpiä kun jäsenkorjauksen lisäksi kehosta poistetaan stressi ja jännitys\, mitkä ovat usein virheasentojen perimmäinen syy. \n\n\n\nKurssilla opit seuraavia asioita\n\n\n\n\nIhmisen energia-anatomia\n\n\n\nEnergiatukosten löytäminen ja poistaminen\n\n\n\nKehon energiatason nosto\n\n\n\nHoitoprotokolla koko kehon hoitoon\n\n\n\nMiten yhdistää energeettinen jäsenkorjaus ja energiakehon hoito parhaimman hoitotuloksen aikaansaamiseksi\n\n\n\nItsehoito\n\n\n\n\nKurssin käytyäsi pystyt hoitamaan mm. seuraavantyyppisiä vaivoja\n\n\n\n\nKehon asentovirheiden entistä tehokkaampi hoito\n\n\n\nStressi ja jännitystilat\n\n\n\nKiputilat\n\n\n\nVäsymys\, tukkoisuus\, sumuisuus\n\n\n\nImmuniteetin voimistaminen\n\n\n\n\nPaikka: Sokos Hotel Puijonsarvi\, Minna Canthin katu 16\, 70100 KuopioKokoustila: Suojalinna \n\n\n\nAika: La klo 11-18\, Su klo 9-16 \n\n\n\nKouluttajat: Viivi Bäck\, Petri Filipczak \n\n\n\nHUOM! Lähikurssin ostettuasi voit vaihtaa sen toiseen vastaavaan lähikurssin tai verkkokurssiin mikäli et pääse aluksi valitsemallesi kurssille. \n\n\n\n\n\n\n\nKurssin kertaaminen \n\n\n\nKurssin kertaus 80€. Mikäli olet käynyt kurssin aikaisemmin\, voit kerrata kurssin verkkokurssina tai lähikurssina 80€ hintaan.  \n\n\n\nLähikurssikertauksen voit ostaa aikaisintaan 2 viikkoa ennen kurssin alkamista alennuskoodilla joka tulee näkyviin tähän: \n\n\n\nHuom. Mikäli kertauskoodia käytetään eikä kurssia ole käyty aikaisemmin\, joudumme palauttamaan rahat ja tästä ylimääräisestä työstä veloitetaan 15€.  \n\n\n\n\n\n\n\n \n\n\n\n\n\n\n\n\nOsallistu
URL:https://seh.koutademo.fi/koulutukset-tapahtuma/lahikurssi-kuopio-energiakehon-hoito-4-2026/
CATEGORIES:Lähikurssi
ATTACH;FMTTYPE=image/jpeg:https://seh.koutademo.fi/wp-content/uploads/2025/02/E2.jpg
END:VEVENT
END:VCALENDAR