BEGIN:VCALENDAR
VERSION:2.0
PRODID:-//Suomen Energiahoitajat Oy - ECPv6.13.2//NONSGML v1.0//EN
CALSCALE:GREGORIAN
METHOD:PUBLISH
X-ORIGINAL-URL:https://seh.koutademo.fi
X-WR-CALDESC:Tapahtumat Suomen Energiahoitajat Oy
REFRESH-INTERVAL;VALUE=DURATION:PT1H
X-Robots-Tag:noindex
X-PUBLISHED-TTL:PT1H
BEGIN:VTIMEZONE
TZID:Europe/Helsinki
BEGIN:DAYLIGHT
TZOFFSETFROM:+0200
TZOFFSETTO:+0300
TZNAME:EEST
DTSTART:20240331T010000
END:DAYLIGHT
BEGIN:STANDARD
TZOFFSETFROM:+0300
TZOFFSETTO:+0200
TZNAME:EET
DTSTART:20241027T010000
END:STANDARD
END:VTIMEZONE
BEGIN:VEVENT
DTSTART;TZID=Europe/Helsinki:20241019T000000
DTEND;TZID=Europe/Helsinki:20241020T235959
DTSTAMP:20260422T232223
CREATED:20210430T073918Z
LAST-MODIFIED:20240606T185530Z
UID:3633-1729296000-1729468799@seh.koutademo.fi
SUMMARY:Lähikurssi Helsinki\, Jatkokurssi 2
DESCRIPTION:Ennakkovaatimus: Jatkokurssi 1. \n\n\n\nJatkokurssi 2 -kurssilla opiskelemme edistyneempiä tekniikoita joilla on mahdollista hoitaa esim. tunnepuolen ongelmia entistä syvemmällä tasolla ja saada vaikutusta asiakkaisiin joiden kanssa perustekniikat eivät välttämättä riitä. Kurssilla opiskelemme myös testaustekniikoita joiden avulla on mahdollista hoitaa piilossa  alitajunnassa olevia ongelmia joiden hoito pelkästään tietoisen mielen kautta olisi erittäin haastavaa. \n\n\n\nKertaaminen: Mikäli olet tulossa kertaamaan kurssia\, niin ota yhteyttä: asiakaspalvelu@suomenenergiahoitajat.fi \n\n\n\nPaikka: Valo Hotelli\, Mannerheimintie 109\, Helsinki \n\n\n\nKokoustila: Letto+Neva \n\n\n\nPvm: 19-20.10.2024 \n\n\n\nAika: klo 11-18 \n\n\n\n\nOsallistu
URL:https://seh.koutademo.fi/koulutukset-tapahtuma/lahikoulutus-helsinki-jatkokurssi2-10-2024/
CATEGORIES:Lähikurssi
ATTACH;FMTTYPE=image/jpeg:https://seh.koutademo.fi/wp-content/uploads/2021/03/suomen-energiahoitajat-taso2-kurssi2.jpg
END:VEVENT
END:VCALENDAR