BEGIN:VCALENDAR
VERSION:2.0
PRODID:-//Suomen Energiahoitajat Oy - ECPv6.13.2//NONSGML v1.0//EN
CALSCALE:GREGORIAN
METHOD:PUBLISH
X-ORIGINAL-URL:https://seh.koutademo.fi
X-WR-CALDESC:Tapahtumat Suomen Energiahoitajat Oy
REFRESH-INTERVAL;VALUE=DURATION:PT1H
X-Robots-Tag:noindex
X-PUBLISHED-TTL:PT1H
BEGIN:VTIMEZONE
TZID:Europe/Helsinki
BEGIN:DAYLIGHT
TZOFFSETFROM:+0200
TZOFFSETTO:+0300
TZNAME:EEST
DTSTART:20250330T010000
END:DAYLIGHT
BEGIN:STANDARD
TZOFFSETFROM:+0300
TZOFFSETTO:+0200
TZNAME:EET
DTSTART:20251026T010000
END:STANDARD
END:VTIMEZONE
BEGIN:VEVENT
DTSTART;TZID=Europe/Helsinki:20250412T000000
DTEND;TZID=Europe/Helsinki:20250413T235959
DTSTAMP:20260420T183843
CREATED:20210430T072513Z
LAST-MODIFIED:20250121T190934Z
UID:3626-1744416000-1744588799@seh.koutademo.fi
SUMMARY:Lähikurssi Helsinki\, Taso 3: Henkisen tason hoito 1
DESCRIPTION:Ennakkovaatimus: Jatkokurssi 2. \n\n\n\nHenkisen tason hoito 1 on koulutusohjelmamme toiseksi viimeinen kurssi. Kurssi antaa valmiuksia hoitaa yhä vaikeampia ja erityisesti tunnetason ongelmia. \n\n\n\nPaikka: VALO Hotel & Work\, Mannerheimintie 109\, Helsinki \n\n\n\nAika: Klo 11-18 \n\n\n\nHUOM! Lähikurssin ostettuasi voit vaihtaa sen toiseen vastaavaan lähikurssin tai verkkokurssiin mikäli et pääse aluksi valitsemallesi kurssille. \n\n\n\n\n\n\n\nKurssin kertaaminen \n\n\n\nKurssin kertaus 80€. Mikäli olet käynyt kurssin aikaisemmin\, voit kerrata kurssin verkkokurssina tai lähikurssina 80€ hintaan. Kertauksen voit ostaa klikkaamalla tästä. HUOM! Tarkistamme että jokainen kertauksen ostanut on käynyt kurssin aikaisemmin. \n\n\n\n\n\n\n\n \n\n\n\n \n\n\n\n\nOsallistu
URL:https://seh.koutademo.fi/koulutukset-tapahtuma/lahikurssi-helsinki-taso-3-henkisen-tason-hoito1-4-2025/
CATEGORIES:Lähikurssi
END:VEVENT
END:VCALENDAR