BEGIN:VCALENDAR
VERSION:2.0
PRODID:-//Suomen Energiahoitajat Oy - ECPv6.13.2//NONSGML v1.0//EN
CALSCALE:GREGORIAN
METHOD:PUBLISH
X-WR-CALNAME:Suomen Energiahoitajat Oy
X-ORIGINAL-URL:https://seh.koutademo.fi
X-WR-CALDESC:Tapahtumat Suomen Energiahoitajat Oy
REFRESH-INTERVAL;VALUE=DURATION:PT1H
X-Robots-Tag:noindex
X-PUBLISHED-TTL:PT1H
BEGIN:VTIMEZONE
TZID:Europe/Helsinki
BEGIN:DAYLIGHT
TZOFFSETFROM:+0200
TZOFFSETTO:+0300
TZNAME:EEST
DTSTART:20260329T010000
END:DAYLIGHT
BEGIN:STANDARD
TZOFFSETFROM:+0300
TZOFFSETTO:+0200
TZNAME:EET
DTSTART:20261025T010000
END:STANDARD
END:VTIMEZONE
BEGIN:VEVENT
DTSTART;TZID=Europe/Helsinki:20260207T000000
DTEND;TZID=Europe/Helsinki:20260208T235959
DTSTAMP:20260419T233813
CREATED:20210430T071132Z
LAST-MODIFIED:20260126T124302Z
UID:3616-1770422400-1770595199@seh.koutademo.fi
SUMMARY:Lähikurssi Helsinki\, Jatkokurssi 1
DESCRIPTION:Ennakkovaatimus: Tunnekehon hoito – kurssi. \n\n\n\nJatkokurssi 1 -kurssilla opiskelemme edistyneempiä tekniikoita joilla on mahdollista nopeuttaa esim. Fyysisen kehon jäsenkorjausta huomattavasti. Kurssilla käymme myös läpi monia täysin uusia syventäviä tekniikoita joiden avulla on mahdollista saada entistä syvempiä hoitotuloksia. \n\n\n\nPaikka: VALO Hotel & Work\, Mannerheimintie 109\, Helsinki \n\n\n\nKokoustila: Letto+Neva \n\n\n\nPvm: 7-8.2.2026 \n\n\n\nAika: klo 11-18 \n\n\n\nHUOM! Lähikurssin ostettuasi voit vaihtaa sen toiseen vastaavaan lähikurssin tai verkkokurssiin mikäli et pääse aluksi valitsemallesi kurssille. \n\n\n\n\n\n\n\nKurssin kertaaminen \n\n\n\nMikäli olet käynyt kurssin aikaisemmin\, sinulla on oikeus kerrata kurssi alennettuun hintaan alla olevalla kertauskoodilla. \n\n\n\nHUOM! Mikäli koodia käytetään eikä kurssia ei ole käyty aikaisemmin\, joudumme palauttamaan rahat ja tästä ylimääräisestä työstä veloitetaan 15€ toimistomaksua.  \n\n\n\nKertauskoodi: J1-kertaus. \n\n\n\n \n\n\n\n \n\n\n\n \n\n\n\n \n\n\n\n\n\n\n\n \n\n\n\n\nOsallistu
URL:https://seh.koutademo.fi/koulutukset-tapahtuma/lahikurssi-helsinki-jatkokurssi1-2-2025/
CATEGORIES:Lähikurssi
ATTACH;FMTTYPE=image/jpeg:https://seh.koutademo.fi/wp-content/uploads/2021/12/j1.jpg
END:VEVENT
BEGIN:VEVENT
DTSTART;TZID=Europe/Helsinki:20260214T000000
DTEND;TZID=Europe/Helsinki:20260215T235959
DTSTAMP:20260419T233813
CREATED:20211224T131523Z
LAST-MODIFIED:20260201T115216Z
UID:5668-1771027200-1771199999@seh.koutademo.fi
SUMMARY:Lähikurssi Kuopio\, Taso 1\, Kurssi 1: Fyysisen kehon hoito
DESCRIPTION:Ennakkovaatimus: Kurssille ei ole ennakkovaatimuksia. \n\n\n\nHaluaisitko oppia poistamaan kipuja sekä korjamaan kehon asentovirheitä tehokkaasti\, mutta lempein menetelmin? Kurssilla tarjoamme tehokkaat työkalut asentovirheiden mittaamiseen\, korjaamiseen sekä kivunhoitoon. \n\n\n\nKurssi sopii itsehoidosta sekä muiden hoitamisesta kiinnostuneille sekä lisätyökaluksi hyvinvoinnin parissa työskenteleville. Koulutus ei vaadi aikaisempaa kokemusta. Jokainen kurssille osallistuva pystyy kurssin käytyään tekemään hoitoja itsenäisesti ja saamaan tehokkaita hoitotuloksia. Tarjoamme myös kouluttajien tuen koulutuksen jälkeiseen harjoitteluun. \n\n\n\nTämä on koulutusohjelmamme ensimmäinen kurssi. Kurssi on valittu ensimmäiseksi koska tällä kurssilla näet omin silmin miten energiahoidolla saat aikaan konkreettisia positiivisia muutoksia hoidettavissa. Sinun ei tarvitse uskoa tai toivoa että pystyt auttamaan\, vaan näet tulokset välittömästi jo hoidon aikana. \n\n\n\nKurssin keskeisin asia on energeettinen jäsenkorjaus missä kehon asentovirheitä (mm. erimittaiset jalat\, skolioosi\, kallon luiden virheasennot) mitataan ja korjataan käyttämällä tehokkaita energiahoitotekniikoita. Kurssin toinen tärkeä kokonaisuus on kivun poistaminen\, mihin opit myös tehokkaan hoitoprotokollan. Kyseisellä tekniikalla mm. jäätynyt olkapää saadaan kuntoon useimmissa tapauksissa jo yhdellä hoitokerralla. \n\n\n\nKurssilla opit mm. seuraavia asioita: \n\n\n\n\nYleistä tietoa energiahoitamisesta\n\n\n\nMitä energiahoito on\n\n\n\nMihin energiahoito auttaa\n\n\n\nMihin energiahoito perustuu\n\n\n\nEnergeettinen jäsenkorjaus\n\n\n\nMitä ongelmia virheasennot aiheuttavat\n\n\n\nVirheasentojen mittaaminen\n\n\n\nVirheasentojen korjaus\n\n\n\nKivun hoitoprotokolla\n\n\n\n\nKurssin käytyäsi pystyt hoitamaan tehokkaasti mm. seuraavantyyppisiä vaivoja: \n\n\n\n\nSelkäkivut\n\n\n\nPolvivaivat\n\n\n\nOlkapäävaivat\n\n\n\nLantion alueen virheasennot\n\n\n\nErimittaiset jalat\n\n\n\nLihasjännitykset (mm. niska-hartiaseutu)\n\n\n\nJne. asentovirheet/kiputilat\n\n\n\n\nPaikka: Sokos Hotel Puijonsarvi\, Suojalinna \n\n\n\nAika: La klo 12-19\, Su klo 9-16 \n\n\n\nEnnakkovaatimus: Kurssille ei ole ennakkovaatimuksia. \n\n\n\nKouluttajat: Viivi Bäck\, Petri Filipczak \n\n\n\nHinta: 550€ \n\n\n\nHUOM! Lähikurssin ostettuasi voit vaihtaa sen toiseen vastaavaan lähikurssin tai verkkokurssiin mikäli et pääse aluksi valitsemallesi kurssille. \n\n\n\nMikäli sinulla heräsi kysyttävää\, ota yhteyttä lomakkeen kautta. Lomakkeeseen pääset tästä. \n\n\n\n \n\n\n\n\n\n\n\nKurssin kertaaminen \n\n\n\nMikäli olet käynyt kurssin aikaisemmin\, sinulla on oikeus kerrata kurssi alennettuun hintaan alla olevalla kertauskoodilla. \n\n\n\nHUOM! Mikäli koodia käytetään eikä kurssia ei ole käyty aikaisemmin\, joudumme palauttamaan rahat ja tästä ylimääräisestä työstä veloitetaan 15€ toimistomaksua. \n\n\n\nKertauskoodi: f-kertaus \n\n\n\n\n\n\n\n \n\n\n\n\nOsallistu
URL:https://seh.koutademo.fi/koulutukset-tapahtuma/lahikurssi-kuopio-taso-1-kurssi-1-fyysisen-kehon-hoito-4-2025/
CATEGORIES:Aloituskurssi,Lähikurssi
ATTACH;FMTTYPE=image/jpeg:https://seh.koutademo.fi/wp-content/uploads/2025/06/miia-mittaa4.jpg
END:VEVENT
END:VCALENDAR