BEGIN:VCALENDAR
VERSION:2.0
PRODID:-//Suomen Energiahoitajat Oy - ECPv6.13.2//NONSGML v1.0//EN
CALSCALE:GREGORIAN
METHOD:PUBLISH
X-ORIGINAL-URL:https://seh.koutademo.fi
X-WR-CALDESC:Tapahtumat Suomen Energiahoitajat Oy
REFRESH-INTERVAL;VALUE=DURATION:PT1H
X-Robots-Tag:noindex
X-PUBLISHED-TTL:PT1H
BEGIN:VTIMEZONE
TZID:Europe/Helsinki
BEGIN:DAYLIGHT
TZOFFSETFROM:+0200
TZOFFSETTO:+0300
TZNAME:EEST
DTSTART:20260329T010000
END:DAYLIGHT
BEGIN:STANDARD
TZOFFSETFROM:+0300
TZOFFSETTO:+0200
TZNAME:EET
DTSTART:20261025T010000
END:STANDARD
END:VTIMEZONE
BEGIN:VEVENT
DTSTART;TZID=Europe/Helsinki:20260314T000000
DTEND;TZID=Europe/Helsinki:20260315T235959
DTSTAMP:20260419T215516
CREATED:20210430T073442Z
LAST-MODIFIED:20260205T195923Z
UID:3631-1773446400-1773619199@seh.koutademo.fi
SUMMARY:Lähikurssi Helsinki\, Taso 1 Kurssi 2: Energiakehon hoito
DESCRIPTION:Ennakkovaatimus: Fyysisen kehon hoito -kurssi. \n\n\n\nTällä kurssilla opit purkamaan kehosta pois tällaista kertynyttä stressiä. Hoidon seurauksena keho ja mieli rentoutuvat\, kivut helpottavat\, energiataso nousee ja kehon paranemisprosessit aktivoituvat. \n\n\n\nLänsimainen kiireinen elämäntapa luo kehoon ja mieleen valtavasti stressiä jota yleensä ei osata purkaa edes lomien aikaan. \n\n\n\nTämä stressi kertyy kehoon ja itämaisen lääketieteen mukaan kertynyt jännitys tukkii kehon energiavirrat mikä johtaa krooniseen stressitilaan. Ensimmäinen oire tällaisesta kroonisesta stressitilasta on pinnallinen ja katkonainen uni. Kun tällainen stressitila jatkuu\, johtaa se ajan kanssa vakavampiin oireisiin kuten mm. kroonisiin kipuihin\, tulehdustiloihin tai jopa loppuun palamiseen. \n\n\n\nTällä kurssilla opit purkamaan kehosta pois tällaista kertynyttä stressiä. Hoidon seurauksena keho ja mieli rentoutuvat\, kivut helpottavat\, energiataso nousee ja kehon paranemisprosessit aktivoituvat. Tämän kurssin tekniikoiden vaikutus myös lisää entisestään ensimmäisen kurssin hoitotuloksia\, eli energeettisestä jäsenkorjauksesta tulee entistä tehokkaampaa ja hoitotulokset ovat pysyvämpiä kun jäsenkorjauksen lisäksi kehosta poistetaan stressi ja jännitys\, mitkä ovat usein virheasentojen perimmäinen syy. \n\n\n\nKurssilla opit seuraavia asioita\n\n\n\n\nIhmisen energia-anatomia\n\n\n\nEnergiatukosten löytäminen ja poistaminen\n\n\n\nKehon energiatason nosto\n\n\n\nHoitoprotokolla koko kehon hoitoon\n\n\n\nMiten yhdistää energeettinen jäsenkorjaus ja energiakehon hoito parhaimman hoitotuloksen aikaansaamiseksi\n\n\n\nItsehoito\n\n\n\n\nKurssin käytyäsi pystyt hoitamaan mm. seuraavantyyppisiä vaivoja\n\n\n\n\nKehon asentovirheiden entistä tehokkaampi hoito\n\n\n\nStressi ja jännitystilat\n\n\n\nKiputilat\n\n\n\nVäsymys\, tukkoisuus\, sumuisuus\n\n\n\nImmuniteetin voimistaminen\n\n\n\n\nPaikka: VALO Hotel & Work\, Mannerheimintie 109\, Helsinki \n\n\n\nAika:  \n\n\n\nLa Klo 13-20\, Su Klo 11-18 \n\n\n\nHUOM! Lähikurssin ostettuasi voit vaihtaa sen toiseen vastaavaan lähikurssin tai verkkokurssiin mikäli et pääse aluksi valitsemallesi kurssille. \n\n\n\n\n\n\n\nKurssin kertaaminen \n\n\n\nKertaamisen voi ostaa 2 viikkoa ennen kurssin alkua tähän tulevalla koodilla.  \n\n\n\n\n\n\n\n \n\n\n\n\n\n\n\n\nOsallistu
URL:https://seh.koutademo.fi/koulutukset-tapahtuma/lahikoulutus-helsinki-taso-1-kurssi-2-3-2026/
CATEGORIES:Lähikurssi
ATTACH;FMTTYPE=image/jpeg:https://seh.koutademo.fi/wp-content/uploads/2025/02/E2.jpg
END:VEVENT
BEGIN:VEVENT
DTSTART;TZID=Europe/Helsinki:20260328T000000
DTEND;TZID=Europe/Helsinki:20260329T235959
DTSTAMP:20260419T215516
CREATED:20230521T041523Z
LAST-MODIFIED:20251114T154904Z
UID:12157-1774656000-1774828799@seh.koutademo.fi
SUMMARY:Lähikurssi Tampere Taso 1\, Kurssi 1: Fyysisen kehon hoito
DESCRIPTION:Ennakkovaatimus: Kurssille ei ole ennakkovaatimuksia. \n\n\n\nHaluaisitko oppia poistamaan kipuja sekä korjamaan kehon asentovirheitä tehokkaasti\, mutta lempein menetelmin? Kurssilla tarjoamme tehokkaat työkalut asentovirheiden mittaamiseen\, korjaamiseen sekä kivunhoitoon. \n\n\n\nKurssi sopii itsehoidosta sekä muiden hoitamisesta kiinnostuneille sekä lisätyökaluksi hyvinvoinnin parissa työskenteleville. Koulutus ei vaadi aikaisempaa kokemusta. Jokainen kurssille osallistuva pystyy kurssin käytyään tekemään hoitoja itsenäisesti ja saamaan tehokkaita hoitotuloksia. Tarjoamme myös kouluttajien tuen koulutuksen jälkeiseen harjoitteluun. \n\n\n\nTämä on koulutusohjelmamme ensimmäinen kurssi. Kurssi on valittu ensimmäiseksi koska tällä kurssilla näet omin silmin miten energiahoidolla saat aikaan konkreettisia positiivisia muutoksia hoidettavissa. Sinun ei tarvitse uskoa tai toivoa että pystyt auttamaan\, vaan näet tulokset välittömästi jo hoidon aikana. \n\n\n\nKurssin keskeisin asia on energeettinen jäsenkorjaus missä kehon asentovirheitä (mm. erimittaiset jalat\, skolioosi\, kallon luiden virheasennot) mitataan ja korjataan käyttämällä tehokkaita energiahoitotekniikoita. Kurssin toinen tärkeä kokonaisuus on kivun poistaminen\, mihin opit myös tehokkaan hoitoprotokollan. Kyseisellä tekniikalla mm. jäätynyt olkapää saadaan kuntoon useimmissa tapauksissa jo yhdellä hoitokerralla. \n\n\n\nKurssilla opit mm. seuraavia asioita: \n\n\n\n\nYleistä tietoa energiahoitamisesta\n\n\n\nMitä energiahoito on\n\n\n\nMihin energiahoito auttaa\n\n\n\nMihin energiahoito perustuu\n\n\n\nEnergeettinen jäsenkorjaus\n\n\n\nMitä ongelmia virheasennot aiheuttavat\n\n\n\nVirheasentojen mittaaminen\n\n\n\nVirheasentojen korjaus\n\n\n\nKivun hoitoprotokolla\n\n\n\n\nKurssin käytyäsi pystyt hoitamaan tehokkaasti mm. seuraavantyyppisiä vaivoja: \n\n\n\n\nSelkäkivut\n\n\n\nPolvivaivat\n\n\n\nOlkapäävaivat\n\n\n\nLantion alueen virheasennot\n\n\n\nErimittaiset jalat\n\n\n\nLihasjännitykset (mm. niska-hartiaseutu)\n\n\n\nJne. asentovirheet/kiputilat\n\n\n\n\nPaikka: Solo Sokos Hotel Torni\, Ratapihankatu 43\, 33100 Tampere \n\n\n\nKokoustila: Jumbo \n\n\n\nKouluttaja: Viivi Bäck \n\n\n\nAika: La klo 12-19\, Su klo 9-16 \n\n\n\nHUOM! Lähikurssin ostettuasi voit vaihtaa sen toiseen vastaavaan lähikurssin tai verkkokurssiin mikäli et pääse aluksi valitsemallesi kurssille. \n\n\n\n\n\n\n\nKurssin kertaaminen \n\n\n\nKurssin kertaus 80€. Mikäli olet käynyt kurssin aikaisemmin\, voit kerrata kurssin verkkokurssina tai lähikurssina 80€ hintaan. \n\n\n\nLähikurssikertauksen voit ostaa aikaisintaan 2 viikkoa ennen kurssin alkamista alennuskoodilla joka tulee tähän:_____________ \n\n\n\nHuom. Mikäli kertauskoodia käytetään eikä kurssia ole käyty aikaisemmin\, joudumme palauttamaan rahat ja tästä ylimääräisestä työstä veloitetaan 15€. \n\n\n\n\n\n\n\n \n\n\n\n\nOsallistu
URL:https://seh.koutademo.fi/koulutukset-tapahtuma/lahikurssi-tampere-fyysisen-kehon-hoito-3-2026/
CATEGORIES:Aloituskurssi,Lähikurssi
ATTACH;FMTTYPE=image/jpeg:https://seh.koutademo.fi/wp-content/uploads/2025/02/petri-ja-miia-takapuoli.jpg
END:VEVENT
END:VCALENDAR