BEGIN:VCALENDAR
VERSION:2.0
PRODID:-//Suomen Energiahoitajat Oy - ECPv6.13.2//NONSGML v1.0//EN
CALSCALE:GREGORIAN
METHOD:PUBLISH
X-WR-CALNAME:Suomen Energiahoitajat Oy
X-ORIGINAL-URL:https://seh.koutademo.fi
X-WR-CALDESC:Tapahtumat Suomen Energiahoitajat Oy
REFRESH-INTERVAL;VALUE=DURATION:PT1H
X-Robots-Tag:noindex
X-PUBLISHED-TTL:PT1H
BEGIN:VTIMEZONE
TZID:Europe/Helsinki
BEGIN:DAYLIGHT
TZOFFSETFROM:+0200
TZOFFSETTO:+0300
TZNAME:EEST
DTSTART:20260329T010000
END:DAYLIGHT
BEGIN:STANDARD
TZOFFSETFROM:+0300
TZOFFSETTO:+0200
TZNAME:EET
DTSTART:20261025T010000
END:STANDARD
END:VTIMEZONE
BEGIN:VEVENT
DTSTART;TZID=Europe/Helsinki:20260815T000000
DTEND;TZID=Europe/Helsinki:20260816T235959
DTSTAMP:20260420T024742
CREATED:20210430T071045Z
LAST-MODIFIED:20251216T154143Z
UID:3612-1786752000-1786924799@seh.koutademo.fi
SUMMARY:Lähikurssi Turku\, Taso 1\, Kurssi 2: Energiakehon hoito
DESCRIPTION:Ennakkovaatimus: Fyysinen kehon hoito -kurssi. \n\n\n\nTällä kurssilla opit purkamaan kehosta pois tällaista kertynyttä stressiä. Hoidon seurauksena keho ja mieli rentoutuvat\, kivut helpottavat\, energiataso nousee ja kehon paranemisprosessit aktivoituvat. \n\n\n\nLänsimainen kiireinen elämäntapa luo kehoon ja mieleen valtavasti stressiä jota yleensä ei osata purkaa edes lomien aikaan. \n\n\n\nTämä stressi kertyy kehoon ja itämaisen lääketieteen mukaan kertynyt jännitys tukkii kehon energiavirrat mikä johtaa krooniseen stressitilaan. Ensimmäinen oire tällaisesta kroonisesta stressitilasta on pinnallinen ja katkonainen uni. Kun tällainen stressitila jatkuu\, johtaa se ajan kanssa vakavampiin oireisiin kuten mm. kroonisiin kipuihin\, tulehdustiloihin tai jopa loppuun palamiseen. \n\n\n\nTällä kurssilla opit purkamaan kehosta pois tällaista kertynyttä stressiä. Hoidon seurauksena keho ja mieli rentoutuvat\, kivut helpottavat\, energiataso nousee ja kehon paranemisprosessit aktivoituvat. Tämän kurssin tekniikoiden vaikutus myös lisää entisestään ensimmäisen kurssin hoitotuloksia\, eli energeettisestä jäsenkorjauksesta tulee entistä tehokkaampaa ja hoitotulokset ovat pysyvämpiä kun jäsenkorjauksen lisäksi kehosta poistetaan stressi ja jännitys\, mitkä ovat usein virheasentojen perimmäinen syy. \n\n\n\nKurssilla opit seuraavia asioita\n\n\n\n\nIhmisen energia-anatomia\n\n\n\nEnergiatukosten löytäminen ja poistaminen\n\n\n\nKehon energiatason nosto\n\n\n\nHoitoprotokolla koko kehon hoitoon\n\n\n\nMiten yhdistää energeettinen jäsenkorjaus ja energiakehon hoito parhaimman hoitotuloksen aikaansaamiseksi\n\n\n\nItsehoito\n\n\n\n\nKurssin käytyäsi pystyt hoitamaan mm. seuraavantyyppisiä vaivoja\n\n\n\n\nKehon asentovirheiden entistä tehokkaampi hoito\n\n\n\nStressi ja jännitystilat\n\n\n\nKiputilat\n\n\n\nVäsymys\, tukkoisuus\, sumuisuus\n\n\n\nImmuniteetin voimistaminen\n\n\n\n\nPaikka: Ruissalo Spa hotel\, Ruissalon puistotie 640\, 20100 Turku \n\n\n\nPysäköinti: Ruissalon Kylpylän edessä on maksullinen parkkialue.Pysäköintihinnat ovat: 1 e / tunti ja 10 e / 24 tuntia.Pysäköintikiekolla voi pysäköidä kaksi tuntia veloituksetta. \n\n\n\nAika: La klo 11-18\, Su klo 11-18 \n\n\n\nKouluttaja: Viivi Bäck \n\n\n\n\n\n\n\nKurssin kertaaminen \n\n\n\nKertaamisen voi ostaa 2 viikkoa ennen kurssin alkua tähän tulevalla koodilla. \n\n\n\n\n\n\n\n\n\n\n\n\nOsallistu
URL:https://seh.koutademo.fi/koulutukset-tapahtuma/lahikurssi-turku-energiakehon-hoito-8-2026/
CATEGORIES:Lähikurssi
ATTACH;FMTTYPE=image/jpeg:https://seh.koutademo.fi/wp-content/uploads/2025/12/Energiakehon-hoito.jpg
END:VEVENT
BEGIN:VEVENT
DTSTART;TZID=Europe/Helsinki:20260829T000000
DTEND;TZID=Europe/Helsinki:20260830T235959
DTSTAMP:20260420T024742
CREATED:20210430T071845Z
LAST-MODIFIED:20260205T200004Z
UID:3622-1787961600-1788134399@seh.koutademo.fi
SUMMARY:Lähikurssi Helsinki\, Taso 1 Kurssi 2: Energiakehon hoito
DESCRIPTION:Ennakkovaatimus: Fyysisen kehon hoito -kurssi. \n\n\n\nTällä kurssilla opit purkamaan kehosta pois tällaista kertynyttä stressiä. Hoidon seurauksena keho ja mieli rentoutuvat\, kivut helpottavat\, energiataso nousee ja kehon paranemisprosessit aktivoituvat. \n\n\n\nLänsimainen kiireinen elämäntapa luo kehoon ja mieleen valtavasti stressiä jota yleensä ei osata purkaa edes lomien aikaan. \n\n\n\nTämä stressi kertyy kehoon ja itämaisen lääketieteen mukaan kertynyt jännitys tukkii kehon energiavirrat mikä johtaa krooniseen stressitilaan. Ensimmäinen oire tällaisesta kroonisesta stressitilasta on pinnallinen ja katkonainen uni. Kun tällainen stressitila jatkuu\, johtaa se ajan kanssa vakavampiin oireisiin kuten mm. kroonisiin kipuihin\, tulehdustiloihin tai jopa loppuun palamiseen. \n\n\n\nTällä kurssilla opit purkamaan kehosta pois tällaista kertynyttä stressiä. Hoidon seurauksena keho ja mieli rentoutuvat\, kivut helpottavat\, energiataso nousee ja kehon paranemisprosessit aktivoituvat. Tämän kurssin tekniikoiden vaikutus myös lisää entisestään ensimmäisen kurssin hoitotuloksia\, eli energeettisestä jäsenkorjauksesta tulee entistä tehokkaampaa ja hoitotulokset ovat pysyvämpiä kun jäsenkorjauksen lisäksi kehosta poistetaan stressi ja jännitys\, mitkä ovat usein virheasentojen perimmäinen syy. \n\n\n\nKurssilla opit seuraavia asioita\n\n\n\n\nIhmisen energia-anatomia\n\n\n\nEnergiatukosten löytäminen ja poistaminen\n\n\n\nKehon energiatason nosto\n\n\n\nHoitoprotokolla koko kehon hoitoon\n\n\n\nMiten yhdistää energeettinen jäsenkorjaus ja energiakehon hoito parhaimman hoitotuloksen aikaansaamiseksi\n\n\n\nItsehoito\n\n\n\n\nKurssin käytyäsi pystyt hoitamaan mm. seuraavantyyppisiä vaivoja\n\n\n\n\nKehon asentovirheiden entistä tehokkaampi hoito\n\n\n\nStressi ja jännitystilat\n\n\n\nKiputilat\n\n\n\nVäsymys\, tukkoisuus\, sumuisuus\n\n\n\nImmuniteetin voimistaminen\n\n\n\n\nPaikka: VALO Hotel & Work\, Mannerheimintie 109\, 00280 Helsinki \n\n\n\nAika: La Klo 13-20\, Su Klo 11-18 \n\n\n\nHinta: 550€ \n\n\n\nKouluttajat: Petri Filipczak\, Miia Andeen \n\n\n\n \n\n\n\n\n\n\n\nKurssin kertaaminen \n\n\n\nKertaamisen voi ostaa 2 viikkoa ennen kurssin alkua tähän tulevalla koodilla. \n\n\n\n\n\n\n\n \n\n\n\n\n\n\n\n\n\n\nOsallistu
URL:https://seh.koutademo.fi/koulutukset-tapahtuma/lahikurssi-helsinki-taso-1-kurssi-2-energiakehon-hoito-6-2025/
CATEGORIES:Lähikurssi
ATTACH;FMTTYPE=image/jpeg:https://seh.koutademo.fi/wp-content/uploads/2025/02/E2.jpg
END:VEVENT
END:VCALENDAR