BEGIN:VCALENDAR
VERSION:2.0
PRODID:-//Suomen Energiahoitajat Oy - ECPv6.13.2//NONSGML v1.0//EN
CALSCALE:GREGORIAN
METHOD:PUBLISH
X-WR-CALNAME:Suomen Energiahoitajat Oy
X-ORIGINAL-URL:https://seh.koutademo.fi
X-WR-CALDESC:Tapahtumat Suomen Energiahoitajat Oy
REFRESH-INTERVAL;VALUE=DURATION:PT1H
X-Robots-Tag:noindex
X-PUBLISHED-TTL:PT1H
BEGIN:VTIMEZONE
TZID:Europe/Helsinki
BEGIN:DAYLIGHT
TZOFFSETFROM:+0200
TZOFFSETTO:+0300
TZNAME:EEST
DTSTART:20260329T010000
END:DAYLIGHT
BEGIN:STANDARD
TZOFFSETFROM:+0300
TZOFFSETTO:+0200
TZNAME:EET
DTSTART:20261025T010000
END:STANDARD
END:VTIMEZONE
BEGIN:VEVENT
DTSTART;TZID=Europe/Helsinki:20260912T000000
DTEND;TZID=Europe/Helsinki:20260913T235959
DTSTAMP:20260420T043305
CREATED:20230113T131510Z
LAST-MODIFIED:20251115T210450Z
UID:10763-1789171200-1789343999@seh.koutademo.fi
SUMMARY:Lähikurssi Tampere\, Taso 1 Kurssi 3: Tunnekehon hoito
DESCRIPTION:Ennakkovaatimus: Energiakehon hoito kurssi. \n\n\n\nTällä kurssilla opit purkamaan ja pyyhkimään pois kehoon ja alitajuntaan jääneet traumaattiset tapahtumat. Hoidon seurauksena hyvin syvällä kehossa ja mielessä(yleensä piilevänä) oleva stressi poistuu. \n\n\n\nIhminen on voimakkaasti tunteva olento. Meille kaikille tapahtuu elämän aikana monia ikäviä tapahtumia\, jotka jäävät vaivaamaan mieltä vielä vuosia tapahtuman jälkeenkin. \n\n\n\nYleensä ihmiset yrittävät olla ajattelematta ja unohtaa nämä tapahtumat\, mutta tiesitkö että jokainen tällainen traumaattinen tapahtuma jää kehomuistiin ja vaikuttaa siellä vielä vuosikymmenien kuluttua vaikka et tietoisesti edes muistaisi koko tapahtumaa? Tällä kurssilla opit purkamaan ja pyyhkimään pois kehoon ja alitajuntaan jääneet traumaattiset tapahtumat. Hoidon seurauksena hyvin syvällä kehossa ja mielessä(yleensä piilevänä) oleva stressi poistuu. Tämän stressin poistuminen johtaa moniin positiivisiin vaikutuksiin kuten: \n\n\n\nEnergiataso nousee \n\n\n\n\nMieliala nousee (vaikea masennus saattaa hävitä jo yhdellä hoitokerralla)\n\n\n\nPelot poistuvat (pelot johtuvat suureksi osaksi menneisyyden traumoista)\n\n\n\nNegatiiviset käyttäytymismallit poistuvat\n\n\n\n\nKurssin käytyäsi pystyt hoitamaan mm. seuraavantyyppisiä vaivoja \n\n\n\n\nKaikenlaisten negatiivisten muistojen ja tunnetraumojen pois pyyhkiminen\n\n\n\nKipujen poistaminen (vaikeiden kipujen syy on monesti tunnepuolen aiheuttama fysiologinen stressi mikä ilmenee hermoston kautta monesti mystisinä ja vaikeasti hoidettavina ”hermokipuina”)\n\n\n\nRiippuvuuksien hoito\n\n\n\nPelkojen poistaminen\n\n\n\n\n\n\n\n\nPaikka: Solo Sokos Hotel Torni\, Ratapihankatu 43\, 33100 Tampere \n\n\n\nKokoustila: Koski \n\n\n\nKouluttaja: Viivi Bäck \n\n\n\nAika: La klo 12-19\, Su klo 9-16 \n\n\n\nHUOM! Lähikurssin ostettuasi voit vaihtaa sen toiseen vastaavaan lähikurssin tai verkkokurssiin mikäli et pääse aluksi valitsemallesi kurssille. \n\n\n\n\n\n\n\nKurssin kertaaminen \n\n\n\nKurssin kertaus 80€. Mikäli olet käynyt kurssin aikaisemmin\, voit kerrata kurssin verkkokurssina tai lähikurssina 80€ hintaan. \n\n\n\nLähikurssikertauksen voit ostaa aikaisintaan 2 viikkoa ennen kurssin alkamista alennuskoodilla joka tulee tähän:_____________ \n\n\n\nHuom. Mikäli kertauskoodia käytetään eikä kurssia ole käyty aikaisemmin\, joudumme palauttamaan rahat ja tästä ylimääräisestä työstä veloitetaan 15€. \n\n\n\n\n\n\n\n\nOsallistu
URL:https://seh.koutademo.fi/koulutukset-tapahtuma/lahikurssi-tampere-taso-1-kurssi-3-tunnekehon-hoito-9-2026/
CATEGORIES:Lähikurssi
ATTACH;FMTTYPE=image/jpeg:https://seh.koutademo.fi/wp-content/uploads/2025/02/T-1.jpg
END:VEVENT
END:VCALENDAR