BEGIN:VCALENDAR
VERSION:2.0
PRODID:-//Suomen Energiahoitajat Oy - ECPv6.13.2//NONSGML v1.0//EN
CALSCALE:GREGORIAN
METHOD:PUBLISH
X-WR-CALNAME:Suomen Energiahoitajat Oy
X-ORIGINAL-URL:https://seh.koutademo.fi
X-WR-CALDESC:Tapahtumat Suomen Energiahoitajat Oy
REFRESH-INTERVAL;VALUE=DURATION:PT1H
X-Robots-Tag:noindex
X-PUBLISHED-TTL:PT1H
BEGIN:VTIMEZONE
TZID:Europe/Helsinki
BEGIN:DAYLIGHT
TZOFFSETFROM:+0200
TZOFFSETTO:+0300
TZNAME:EEST
DTSTART:20260329T010000
END:DAYLIGHT
BEGIN:STANDARD
TZOFFSETFROM:+0300
TZOFFSETTO:+0200
TZNAME:EET
DTSTART:20261025T010000
END:STANDARD
END:VTIMEZONE
BEGIN:VEVENT
DTSTART;TZID=Europe/Helsinki:20261107T000000
DTEND;TZID=Europe/Helsinki:20261108T235959
DTSTAMP:20260420T090931
CREATED:20211023T115500Z
LAST-MODIFIED:20251223T102651Z
UID:4866-1794009600-1794182399@seh.koutademo.fi
SUMMARY:Lähikurssi Kuopio\, Taso 1\, Kurssi 1: Fyysisen kehon hoito
DESCRIPTION:Ennakkovaatimus: Kurssille ei ole ennakkovaatimuksia. \n\n\n\nHaluaisitko oppia poistamaan kipuja sekä korjamaan kehon asentovirheitä tehokkaasti\, mutta lempein menetelmin? Kurssilla tarjoamme tehokkaat työkalut asentovirheiden mittaamiseen\, korjaamiseen sekä kivunhoitoon. \n\n\n\nKurssi sopii itsehoidosta sekä muiden hoitamisesta kiinnostuneille sekä lisätyökaluksi hyvinvoinnin parissa työskenteleville. Koulutus ei vaadi aikaisempaa kokemusta. Jokainen kurssille osallistuva pystyy kurssin käytyään tekemään hoitoja itsenäisesti ja saamaan tehokkaita hoitotuloksia. Tarjoamme myös kouluttajien tuen koulutuksen jälkeiseen harjoitteluun. \n\n\n\nTämä on koulutusohjelmamme ensimmäinen kurssi. Kurssi on valittu ensimmäiseksi koska tällä kurssilla näet omin silmin miten energiahoidolla saat aikaan konkreettisia positiivisia muutoksia hoidettavissa. Sinun ei tarvitse uskoa tai toivoa että pystyt auttamaan\, vaan näet tulokset välittömästi jo hoidon aikana. \n\n\n\nKurssin keskeisin asia on energeettinen jäsenkorjaus missä kehon asentovirheitä (mm. erimittaiset jalat\, skolioosi\, kallon luiden virheasennot) mitataan ja korjataan käyttämällä tehokkaita energiahoitotekniikoita. Kurssin toinen tärkeä kokonaisuus on kivun poistaminen\, mihin opit myös tehokkaan hoitoprotokollan. Kyseisellä tekniikalla mm. jäätynyt olkapää saadaan kuntoon useimmissa tapauksissa jo yhdellä hoitokerralla. \n\n\n\nKurssilla opit mm. seuraavia asioita: \n\n\n\n\nYleistä tietoa energiahoitamisesta\n\n\n\nMitä energiahoito on\n\n\n\nMihin energiahoito auttaa\n\n\n\nMihin energiahoito perustuu\n\n\n\nEnergeettinen jäsenkorjaus\n\n\n\nMitä ongelmia virheasennot aiheuttavat\n\n\n\nVirheasentojen mittaaminen\n\n\n\nVirheasentojen korjaus\n\n\n\nKivun hoitoprotokolla\n\n\n\n\nKurssin käytyäsi pystyt hoitamaan tehokkaasti mm. seuraavantyyppisiä vaivoja: \n\n\n\n\nSelkäkivut\n\n\n\nPolvivaivat\n\n\n\nOlkapäävaivat\n\n\n\nLantion alueen virheasennot\n\n\n\nErimittaiset jalat\n\n\n\nLihasjännitykset (mm. niska-hartiaseutu)\n\n\n\nJne. asentovirheet/kiputilat\n\n\n\n\n \n\n\n\nPaikka: Sokos Hotel Puijonsarvi \n\n\n\nEnnakkovaatimus: Kurssille ei ole ennakkovaatimuksia. \n\n\n\nKouluttajat: Viivi Bäck \n\n\n\n\n\n\n\nKurssin kertaaminen \n\n\n\nKertaamisen voi ostaa 2 viikkoa ennen kurssin alkua tähän tulevalla koodilla. \n\n\n\n\n\n\n\n\nOsallistu
URL:https://seh.koutademo.fi/koulutukset-tapahtuma/lahikurssi-kuopio-taso-1-kurssi-1-fyysisenkehon-hoito-11-2026/
CATEGORIES:Aloituskurssi,Lähikurssi
ATTACH;FMTTYPE=image/jpeg:https://seh.koutademo.fi/wp-content/uploads/2025/06/BodyMind-kehoterapeutti.jpg
END:VEVENT
BEGIN:VEVENT
DTSTART;TZID=Europe/Helsinki:20261114T000000
DTEND;TZID=Europe/Helsinki:20261115T235959
DTSTAMP:20260420T090931
CREATED:20221016T134034Z
LAST-MODIFIED:20251021T192701Z
UID:9816-1794614400-1794787199@seh.koutademo.fi
SUMMARY:Lähikurssi Helsinki Taso 1\, Kurssi 1: Fyysisen kehon hoito
DESCRIPTION:Yleistä kurssista:\n\n\n\nFyysisen kehon hoito on koulutusohjelmamme ensimmäinen kurssi. \n\n\n\nFyysisen kehon hoito kurssilla tarjoamme tehokkaat työkalut asentovirheiden mittaamiseen\, korjaamiseen sekä kivunhoitoon. \n\n\n\nKurssi sopii itsehoidosta sekä muiden hoitamisesta kiinnostuneille sekä lisätyökaluksi hyvinvoinnin parissa työskenteleville. Koulutus ei vaadi aikaisempaa kokemusta. Jokainen kurssille osallistuva pystyy kurssin käytyään tekemään hoitoja itsenäisesti ja saamaan tehokkaita hoitotuloksia. Tarjoamme myös kouluttajien tuen koulutuksen jälkeiseen harjoitteluun. \n\n\n\nTämä on koulutusohjelmamme ensimmäinen kurssi. Kurssi on valittu ensimmäiseksi koska tällä kurssilla näet omin silmin miten energiahoidolla saat aikaan konkreettisia positiivisia muutoksia hoidettavissa. Sinun ei tarvitse uskoa tai toivoa että pystyt auttamaan\, vaan näet tulokset välittömästi jo hoidon aikana. \n\n\n\nKurssin keskeisin asia on energeettinen jäsenkorjaus missä kehon asentovirheitä (mm. erimittaiset jalat\, skolioosi\, kallon luiden virheasennot) mitataan ja korjataan käyttämällä tehokkaita energiahoitotekniikoita. Kurssin toinen tärkeä kokonaisuus on kivun poistaminen\, mihin opit myös tehokkaan hoitoprotokollan. Kyseisellä tekniikalla on saatu hyviä tuloksia mm. alaselkäkivuissa\, jäätyneissä olkapäissä jne. kroonisissa kiputiloissa. \n\n\n\nKurssilla opit mm. seuraavia asioita: \n\n\n\n\nYleistä tietoa energiahoitamisesta\n\n\n\nMitä energiahoito on\n\n\n\nMihin energiahoito auttaa\n\n\n\nMihin energiahoito perustuu\n\n\n\nEnergeettinen jäsenkorjaus\n\n\n\nMitä ongelmia virheasennot aiheuttavat\n\n\n\nVirheasentojen mittaaminen\n\n\n\nVirheasentojen korjaus\n\n\n\nKivun hoitoprotokolla\n\n\n\n\nKurssin käytyäsi pystyt hoitamaan tehokkaasti mm. seuraavantyyppisiä vaivoja: \n\n\n\n\nSelkäkivut\n\n\n\nPolvivaivat\n\n\n\nOlkapäävaivat\n\n\n\nLantion alueen virheasennot\n\n\n\nErimittaiset jalat\n\n\n\nLihasjännitykset (mm. niska-hartiaseutu)\n\n\n\nJne. asentovirheet/kiputilat\n\n\n\n\n \n\n\n\nEnnakkovaatimus: Kurssille ei ole ennakkovaatimuksia. \n\n\n\nPaikka: VALO Hotel & Work\, Mannerheimintie 109\, Helsinki \n\n\n\nKouluttajat: Petri Filipczak ja Miia Varpalahti \n\n\n\nHinta: 550€ \n\n\n\nHUOM! Lähikurssin ostettuasi voit vaihtaa sen toiseen vastaavaan lähikurssin tai verkkokurssiin mikäli et pääse aluksi valitsemallesi kurssille. \n\n\n\nMikäli haluat tutustua koulutusohjelmaamme tarkemmin\, lue lisää täältä. \n\n\n\nMikäli sinulla heräsi kysyttävää\, ota yhteyttä lomakkeen kautta. Lomakkeeseen pääset tästä. \n\n\n\nKurssin kertaaminen \n\n\n\nKertaamisen voi ostaa 2 viikkoa ennen kurssin alkua tähän tulevalla koodilla. \n\n\n\n \n\n\n\n\nOsallistu
URL:https://seh.koutademo.fi/koulutukset-tapahtuma/lahikurssi-taso-1-kurssi-1-fyysisen-kehon-hoito-11-2026/
CATEGORIES:Aloituskurssi,Lähikurssi
ATTACH;FMTTYPE=image/jpeg:https://seh.koutademo.fi/wp-content/uploads/2025/06/miia-mittaa4.jpg
END:VEVENT
BEGIN:VEVENT
DTSTART;TZID=Europe/Helsinki:20261128T000000
DTEND;TZID=Europe/Helsinki:20261129T235959
DTSTAMP:20260420T090931
CREATED:20230609T083606Z
LAST-MODIFIED:20260205T200021Z
UID:12284-1795824000-1795996799@seh.koutademo.fi
SUMMARY:Lähikurssi Helsinki\, Taso 3: Henkisen tason hoito 2
DESCRIPTION:Ennakkovaatimus: Henkisen tason hoito 1 \n\n\n\nHenkisen tason hoito 2 on koulutusohjelmamme viimeinen kurssi. Kurssi antaa valmiuksia hoitaa yhä vaikeampia ja erityisesti vaikeita tunnetason ongelmia. \n\n\n\nKertaaminen: Mikäli olet tulossa kertaamaan kurssia\, niin ota yhteyttä: asiakaspalvelu@suomenenergiahoitajat.fi \n\n\n\nPaikka: VALO Hotel & Work\, Mannerheimintie 109\, Helsinki \n\n\n\nKokoustila: Letto+Neva \n\n\n\nPvm: 29-29.11.2026 \n\n\n\nAika: La Klo 13-20\, Su Klo 11-18 \n\n\n\nKurssin kertaaminen \n\n\n\nKertaamisen voi ostaa 2 viikkoa ennen kurssin alkua tähän tulevalla koodilla. \n\n\n\n\nOsallistu
URL:https://seh.koutademo.fi/koulutukset-tapahtuma/lahikurssi-helsinki-taso-3-henkisen-tason-hoito-2/
CATEGORIES:Lähikurssi
ATTACH;FMTTYPE=image/jpeg:https://seh.koutademo.fi/wp-content/uploads/2023/10/h1.jpg
END:VEVENT
END:VCALENDAR